BEGIN:VCALENDAR
VERSION:2.0
PRODID:-//Copper Canyon High School - ECPv6.15.17.1//NONSGML v1.0//EN
CALSCALE:GREGORIAN
METHOD:PUBLISH
X-WR-CALNAME:Copper Canyon High School
X-ORIGINAL-URL:https://coppercanyon.tuhsd.org
X-WR-CALDESC:Events for Copper Canyon High School
REFRESH-INTERVAL;VALUE=DURATION:PT1H
X-Robots-Tag:noindex
X-PUBLISHED-TTL:PT1H
BEGIN:VTIMEZONE
TZID:America/Phoenix
BEGIN:STANDARD
TZOFFSETFROM:-0700
TZOFFSETTO:-0700
TZNAME:MST
DTSTART:20240101T000000
END:STANDARD
END:VTIMEZONE
BEGIN:VEVENT
DTSTART;VALUE=DATE:20250806
DTEND;VALUE=DATE:20250807
DTSTAMP:20260424T025733
CREATED:20240611T210531Z
LAST-MODIFIED:20240611T210531Z
UID:10000073-1754438400-1754524799@coppercanyon.tuhsd.org
SUMMARY:Early Release
DESCRIPTION:
URL:https://coppercanyon.tuhsd.org/calendar-event/early-release-39
LOCATION:AZ
END:VEVENT
BEGIN:VEVENT
DTSTART;VALUE=DATE:20250813
DTEND;VALUE=DATE:20250814
DTSTAMP:20260424T025733
CREATED:20240611T210531Z
LAST-MODIFIED:20240611T210531Z
UID:10000074-1755043200-1755129599@coppercanyon.tuhsd.org
SUMMARY:Early Release
DESCRIPTION:
URL:https://coppercanyon.tuhsd.org/calendar-event/early-release-40
LOCATION:AZ
END:VEVENT
BEGIN:VEVENT
DTSTART;VALUE=DATE:20250814
DTEND;VALUE=DATE:20250815
DTSTAMP:20260424T025733
CREATED:20240611T210532Z
LAST-MODIFIED:20240611T210532Z
UID:10000075-1755129600-1755215999@coppercanyon.tuhsd.org
SUMMARY:TUHSD Parent Night
DESCRIPTION:
URL:https://coppercanyon.tuhsd.org/calendar-event/tuhsd-parent-night-2
LOCATION:AZ
END:VEVENT
BEGIN:VEVENT
DTSTART;VALUE=DATE:20250820
DTEND;VALUE=DATE:20250821
DTSTAMP:20260424T025733
CREATED:20240611T210711Z
LAST-MODIFIED:20240611T210711Z
UID:10000076-1755648000-1755734399@coppercanyon.tuhsd.org
SUMMARY:Early Release
DESCRIPTION:
URL:https://coppercanyon.tuhsd.org/calendar-event/early-release-41
LOCATION:AZ
END:VEVENT
BEGIN:VEVENT
DTSTART;VALUE=DATE:20250827
DTEND;VALUE=DATE:20250828
DTSTAMP:20260424T025733
CREATED:20240611T210712Z
LAST-MODIFIED:20240611T210712Z
UID:10000077-1756252800-1756339199@coppercanyon.tuhsd.org
SUMMARY:Early Release
DESCRIPTION:
URL:https://coppercanyon.tuhsd.org/calendar-event/early-release-42
LOCATION:AZ
END:VEVENT
BEGIN:VEVENT
DTSTART;TZID=America/Phoenix:20250827T180000
DTEND;TZID=America/Phoenix:20250827T180000
DTSTAMP:20260424T025733
CREATED:20250811T204849Z
LAST-MODIFIED:20250811T204849Z
UID:10000208-1756317600-1756317600@coppercanyon.tuhsd.org
SUMMARY:Join WeGrad Event
DESCRIPTION:Families from any campus can participate.\nDiscuss university admissions\, degrees\, careers\, and the transition from high school to college.\nGain the skills and confidence to navigate the system and ensure student success.\nDiscuss college costs\, scholarships\, and financial aid options.
URL:https://coppercanyon.tuhsd.org/calendar-event/join-wegrad-event
LOCATION:Tolleson Union HS Performing Arts Center\, 9419 W. Van Buren\, Tolleson\, AZ\, 85353\, United States
END:VEVENT
END:VCALENDAR